BEGIN:VCALENDAR
VERSION:2.0
PRODID:WVU Health
BEGIN:VEVENT
UID:30562
DTSTAMP:20260421T115100
SUMMARY:KSA—Palliative Care
DTSTART:20241025T080000
DTEND:20241025T120000
DESCRIPTION: For more information, visit http://medicine.hsc.wvu.edu/fammed/50th-anniversary/.
X-ALT-DESC;FMTTYPE=text/html:<p></p><p>For more information, visit http://medicine.hsc.wvu.edu/fammed/50th-anniversary/.</p>
END:VEVENT
END:VCALENDAR
