BEGIN:VCALENDAR
VERSION:2.0
PRODID:WVU Health
BEGIN:VEVENT
UID:30564
DTSTAMP:20260421T115100
SUMMARY:Family Medicine Research Gallery & Hall of Memories
DTSTART:20241025T100000
DTEND:20241025T120000
DESCRIPTION:Take a memorable walk through the last 50 years  –  Ruby Grand Hall, Salon C For more information, visit http://medicine.hsc.wvu.edu/fammed/50th-anniversary/.
X-ALT-DESC;FMTTYPE=text/html:<p>Take a memorable walk through the last 50 years  –  Ruby Grand Hall, Salon C</p><p>For more information, visit http://medicine.hsc.wvu.edu/fammed/50th-anniversary/.</p>
END:VEVENT
END:VCALENDAR
