BEGIN:VCALENDAR
VERSION:2.0
PRODID:WVU Health
BEGIN:VEVENT
UID:30566
DTSTAMP:20260421T115100
SUMMARY:Lunch & Learn: Spinal Cord Stimulation in Diabetic Neuropathy
DTSTART:20241025T123000
DTEND:20241025T010000
DESCRIPTION:Richard Vaglienti, MD For more information, visit http://medicine.hsc.wvu.edu/fammed/50th-anniversary/.
X-ALT-DESC;FMTTYPE=text/html:<p>Richard Vaglienti, MD</p><p>For more information, visit http://medicine.hsc.wvu.edu/fammed/50th-anniversary/.</p>
END:VEVENT
END:VCALENDAR
