BEGIN:VCALENDAR
VERSION:2.0
PRODID:WVU Health
BEGIN:VEVENT
UID:30567
DTSTAMP:20260421T115100
SUMMARY:The Past
DTSTART:20241025T013500
DTEND:20241025T030000
DESCRIPTION:Reminisce with the Department of Family Medicine Past Chairs. For more information, visit http://medicine.hsc.wvu.edu/fammed/50th-anniversary/.
X-ALT-DESC;FMTTYPE=text/html:<p>Reminisce with the Department of Family Medicine Past Chairs.</p><p>For more information, visit http://medicine.hsc.wvu.edu/fammed/50th-anniversary/.</p>
END:VEVENT
END:VCALENDAR
