BEGIN:VCALENDAR
VERSION:2.0
PRODID:WVU Health
BEGIN:VEVENT
UID:30568
DTSTAMP:20260421T115100
SUMMARY:The Present and Beyond (Paul and Laura Mesaros Lectureship)
DTSTART:20241025T031500
DTEND:20241025T041500
DESCRIPTION: For more information, visit http://medicine.hsc.wvu.edu/fammed/50th-anniversary/.
X-ALT-DESC;FMTTYPE=text/html:<p></p><p>For more information, visit http://medicine.hsc.wvu.edu/fammed/50th-anniversary/.</p>
END:VEVENT
END:VCALENDAR
