BEGIN:VCALENDAR
VERSION:2.0
PRODID:WVU Health
BEGIN:VEVENT
UID:30569
DTSTAMP:20260421T115100
SUMMARY:The Future
DTSTART:20241025T042500
DTEND:20241025T045500
DESCRIPTION:Carl Shrader, MD, PhD For more information, visit http://medicine.hsc.wvu.edu/fammed/50th-anniversary/.
X-ALT-DESC;FMTTYPE=text/html:<p>Carl Shrader, MD, PhD</p><p>For more information, visit http://medicine.hsc.wvu.edu/fammed/50th-anniversary/.</p>
END:VEVENT
END:VCALENDAR
