BEGIN:VCALENDAR
VERSION:2.0
PRODID:WVU Health
BEGIN:VEVENT
UID:30570
DTSTAMP:20260421T115100
SUMMARY:Reconnect Over Cocktails and Hors d’oeuvres
DTSTART:20241025T050000
DTEND:20241025T063000
DESCRIPTION:This event is sponsored by Northwestern Mutual of Morgantown. For more information, visit http://medicine.hsc.wvu.edu/fammed/50th-anniversary/.
X-ALT-DESC;FMTTYPE=text/html:<p>This event is sponsored by Northwestern Mutual of Morgantown.</p><p>For more information, visit http://medicine.hsc.wvu.edu/fammed/50th-anniversary/.</p>
END:VEVENT
END:VCALENDAR
