BEGIN:VCALENDAR
VERSION:2.0
PRODID:WVU Health
BEGIN:VEVENT
UID:30571
DTSTAMP:20260421T115100
SUMMARY:Meet and Greet with Dr. Warren Newton (Paul and Laura Mesaros Lectureship)
DTSTART:20241026T090000
DTEND:20241026T120000
DESCRIPTION:Parking at Ruby Memorial Hospital, 9:00am -10:00am Breakfast Buffet, 10:00am - 12:00am Meet & Greet. This event is an informal meet and greet opportunity to chat with Dr. Warren Newton and gain insight on the future of Family Medicine Board certification and residency training. Attendance is complimentary, courtesy of the WVU Department of Family Medicine. For more information, visit http://medicine.hsc.wvu.edu/fammed/50th-anniversary/.
X-ALT-DESC;FMTTYPE=text/html:<p>Parking at Ruby Memorial Hospital, 9:00am -10:00am Breakfast Buffet, 10:00am - 12:00am Meet & Greet. This event is an informal meet and greet opportunity to chat with Dr. Warren Newton and gain insight on the future of Family Medicine Board certification and residency training. Attendance is complimentary, courtesy of the WVU Department of Family Medicine.</p><p>For more information, visit http://medicine.hsc.wvu.edu/fammed/50th-anniversary/.</p>
END:VEVENT
END:VCALENDAR
