BEGIN:VCALENDAR
VERSION:2.0
PRODID:WVU Health
BEGIN:VEVENT
UID:30572
DTSTAMP:20260421T115100
SUMMARY:Alumni Football Watch Party
DTSTART:20241026T053000
DTEND:20241026T110000
DESCRIPTION:Parking at Ruby Memorial Hospital. Reconnect over a Mountaineer tradition, WVU Football.  Includes a tour of Mountaineer Field, tailgate buffet, and more! Don’t forget to wear your Gold and Blue!Kickoff is at 7:00pm. For more information, visit http://medicine.hsc.wvu.edu/fammed/50th-anniversary/.
X-ALT-DESC;FMTTYPE=text/html:<p>Parking at Ruby Memorial Hospital. Reconnect over a Mountaineer tradition, WVU Football.  Includes a tour of Mountaineer Field, tailgate buffet, and more! Don’t forget to wear your Gold and Blue!Kickoff is at 7:00pm.</p><p>For more information, visit http://medicine.hsc.wvu.edu/fammed/50th-anniversary/.</p>
END:VEVENT
END:VCALENDAR
