BEGIN:VCALENDAR
VERSION:2.0
PRODID:WVU Health
BEGIN:VEVENT
UID:30786
DTSTAMP:20260421T115000
SUMMARY:Buffet Lunch
DTSTART:20241025T110000
DTEND:20241025T010000
DESCRIPTION: For more information, visit http://medicine.hsc.wvu.edu/fammed/50th-anniversary/.
X-ALT-DESC;FMTTYPE=text/html:<p></p><p>For more information, visit http://medicine.hsc.wvu.edu/fammed/50th-anniversary/.</p>
END:VEVENT
END:VCALENDAR
