BEGIN:VCALENDAR
VERSION:2.0
PRODID:WVU Health
BEGIN:VEVENT
UID:30790
DTSTAMP:20260421T115100
SUMMARY:Closing Remarks
DTSTART:20241025T045500
DTEND:20241025T050000
DESCRIPTION:Ellen Bolyard For more information, visit http://medicine.hsc.wvu.edu/fammed/50th-anniversary/.
X-ALT-DESC;FMTTYPE=text/html:<p>Ellen Bolyard</p><p>For more information, visit http://medicine.hsc.wvu.edu/fammed/50th-anniversary/.</p>
END:VEVENT
END:VCALENDAR
